BEGIN:VCALENDAR
VERSION:2.0
PRODID:-//Haggai Business Network - ECPv6.15.20//NONSGML v1.0//EN
CALSCALE:GREGORIAN
METHOD:PUBLISH
X-ORIGINAL-URL:https://hbndc.community
X-WR-CALDESC:Events for Haggai Business Network
REFRESH-INTERVAL;VALUE=DURATION:PT1H
X-Robots-Tag:noindex
X-PUBLISHED-TTL:PT1H
BEGIN:VTIMEZONE
TZID:UTC
BEGIN:STANDARD
TZOFFSETFROM:+0000
TZOFFSETTO:+0000
TZNAME:UTC
DTSTART:20240101T000000
END:STANDARD
END:VTIMEZONE
BEGIN:VEVENT
DTSTART;TZID=UTC:20250429T100000
DTEND;TZID=UTC:20250429T110000
DTSTAMP:20260421T115602
CREATED:20241211T190236Z
LAST-MODIFIED:20241211T190236Z
UID:651-1745920800-1745924400@hbndc.community
SUMMARY:How to do Business with Montgomery County Quarterly Webinar
DESCRIPTION:The Montgomery County Office of Procurement and the Maryland Women’s Business Center will co-host a quarterly webinar on the last Tuesday of January\, April\, July and October\, from 10:00am – 11:00am.
URL:https://hbndc.community/event/how-to-do-business-with-montgomery-county-quarterly-webinar/
END:VEVENT
BEGIN:VEVENT
DTSTART;TZID=UTC:20250325T090000
DTEND;TZID=UTC:20250328T235900
DTSTAMP:20260421T115602
CREATED:20241211T193808Z
LAST-MODIFIED:20241211T193808Z
UID:673-1742893200-1743206340@hbndc.community
SUMMARY:Avalon Australian International Airshow
DESCRIPTION:The Avalon Australian International Airshow is a global business\, defence and aviation event\, attracting senior aerospace\, defence and civil aviation industry\, military and government decision-makers from around the world. \nIncorporating an international industry exhibition\, aircraft static displays\, specialist conference program\, VIP delegation to business engagement\, networking\, careers and skills pathways education and weekend public airshow spectacular\, Avalon is the largest event of its kind in the southern hemisphere. \nA biennial event\, Avalon 2023 broke records across the board. \n\n\nAround 248\,000 trade and public attendances across the entire six days of the event \n\n\n48\,516 industry day attendances (up 24%) \n\n\n794 participating companies (up 14%) from 28 nations \n\n\n281 official delegations (up 50%) from 38 nations including 22 Chiefs and 14 Representatives \n\n\n59 conferences\, presentations and symposia \n\n\nStrongly supported by the Royal Australian Air Force\, State Government of Victoria and the City of Greater Geelong\, the next Avalon Australian International Airshow will be held at Avalon Airport from 25-30 March 2025. \nTo join the Maryland delegation\, please contact: mia.romeo@maryland.gov
URL:https://hbndc.community/event/avalon-australian-international-airshow/
END:VEVENT
BEGIN:VEVENT
DTSTART;TZID=UTC:20250204T090000
DTEND;TZID=UTC:20250204T235900
DTSTAMP:20260421T115602
CREATED:20241211T191106Z
LAST-MODIFIED:20241211T191106Z
UID:653-1738659600-1738713540@hbndc.community
SUMMARY:2025 SelectUSA Brazil Roadshow
DESCRIPTION:The 2025 SelectUSA Brazil Roadshow is an investment mission organized to promote the U.S. as a destination for foreign direct investment (FDI). This program will be composed of a series of events that will connect Economic Development Organizations (EDOs) and U.S. service providers (sponsors) to potential investors in 5 different locations in Brazil. The 2025 SelectUSA Brazil Roadshow will also offer matchmaking meetings with pre-screened potential investors for EDOs. \nBrazilian FDI stats: \n\n\nBrazil is the largest source of FDI to the U.S. from South America. \n\n\nU.S. affiliates of majority Brazilian-owned firms support almost 97 thousand jobs in the U.S. – largest employer from Latin America. \n\n\nBrazilian companies operate in over 40 U.S. States and territories. \n\n\nU.S. affiliates of majority Brazilian-owned firms operate in the U.S. not only to access the local market\, but also to use the U.S. as a platform to export globally (USD 7.4 billion were exported compared to USD 1.4 billion by Mexican-owned U.S. affiliates in 2021). \n\n\nNumber of Brazilian greenfield investment announcements in the U.S. grew 220% in 2023 compared to 2022. \n\n\nTop sectors: Software & IT Services\, Financial Services\, Food & Beverages\, Business Services\, Chemicals\, and Plastics.
URL:https://hbndc.community/event/2025-selectusa-brazil-roadshow/
END:VEVENT
BEGIN:VEVENT
DTSTART;TZID=UTC:20250115T100000
DTEND;TZID=UTC:20250115T110000
DTSTAMP:20260421T115602
CREATED:20241211T185940Z
LAST-MODIFIED:20241211T185940Z
UID:647-1736935200-1736938800@hbndc.community
SUMMARY:Procurement Online Open House
DESCRIPTION:The Office of Procurement invites you to our monthly Online Open House\, held every 3rd Wednesday from 10:00am – 11:00am. \nLearn about the latest updates from the Office of Procurement. This is an interactive event. Bring your questions for the procurement team!
URL:https://hbndc.community/event/procurement-online-open-house/
END:VEVENT
END:VCALENDAR